Workbook

Sheet PONDERABLES LP 025-2026
B2: FIDUCIARIA COLOMBIANA DE COMERCIO EXTERIOR S.A.
B3: ANEXO TÉCNICO REQUISITOS PONDERABLES
B5: CONOVOCATORIA | C5: 025-2026
B6: FIDEICOMISO | C6: P.A. CENIT PUEBLO AWA - OBRAS POR IMPUESTOS
B7: PROPONENTES HABILITADOS | C7: 4
B8: TRM | C8: 3218.75
B9: METODO DE EVALUACIÓN VALOR DE LA OFERTA | C9: Media aritmética Alta
B11: PRESUPUESTO DE LA INVITACIÓN | C11: 704678194
B13: NIT | C13: PROPONENTE | D13: Experiencia Adicional | G13: Oferta Económica | I13: Promoción a la Industria Nacional | J13: TOTAL PONDERABLE
D14: Valor criterio A | E14: Valor criterio B | F14: Puntaje | G14: Valor de la oferta | H14: Puntaje
B15: - | C15: UNIÓN TEMPORAL INTERVENTORÍA SSFV BARBACOAS 2026 | D15: =+'UT ITERVENTORÍA SS'!I25 -> 30 | E15: =+'UT ITERVENTORÍA SS'!I42 -> 30 | F15: =+D15+E15 -> 60 | G15: =+'Media Geométrica con PO'!C35 -> 702103366 | H15: =+'Media Geométrica con PO'!C44 -> 29.776004 | I15: =+'UT ITERVENTORÍA SS'!I54 -> 10 | J15: =+F15+H15+I15 -> 99.776004
B16: 900.973.970-9 | C16: INSERGROUP - ISG S.A.S. | D16: =+'INSERGROUP - ISG S.A.S.'!I25 -> 30 | E16: =+'INSERGROUP - ISG S.A.S.'!I42 -> 30 | F16: =+D16+E16 -> 60 | G16: =+'Media Geométrica con PO'!C36 -> 680619786 | H16: =+'Media Geométrica con PO'!C45 -> 29.190604 | I16: =+'INSERGROUP - ISG S.A.S.'!I54 -> 10 | J16: =+F16+H16+I16 -> 99.190604
B17: 900.115.339-0 | C17: SERVICIOS DE CONSULTORIA, OBRAS Y BIENES SAS “SECOB SAS” | D17: =+'INSERGROUP - ISG S.A.S.'!I25 -> 30 | E17: 30 | F17: =+D17+E17 -> 60 | G17: =+'Media Geométrica con PO'!C37 -> 701187270 | H17: =+'Media Geométrica con PO'!C46 -> 29.854584 | I17: =+'SECOB SAS'!I54 -> 10 | J17: =+F17+H17+I17 -> 99.854584
B18: 802.023.429-4 | C18: PROINGES SAS | D18: =+'PROINGES SAS'!I25 -> 30 | E18: =+'PROINGES SAS'!I42 -> 30 | F18: =+D18+E18 -> 60 | G18: =+'Media Geométrica con PO'!C38 -> 704004000 | H18: =+'Media Geométrica con PO'!C47 -> 29.612975 | I18: =+'PROINGES SAS'!I54 -> 10 | J18: =+F18+H18+I18 -> 99.612975
C21: EXPERIENCIA ADICIONAL
C65: VALOR DE LA OFERTA

Sheet Media Geométrica con PO
B2: Presupuesto Oficial | C2: =+'PONDERABLES LP 025-2026'!C11 -> 704678194
C4: Oferta Económica
A5: 1 | B5: UNIÓN TEMPORAL INTERVENTORÍA SSFV BARBACOAS 2026 | C5: 702103366
A6: 2 | B6: INSERGROUP - ISG S.A.S. | C6: 680619786
A7: 3 | B7: SERVICIOS DE CONSULTORIA, OBRAS Y BIENES SAS “SECOB SAS” | C7: 701187270
A8: 4 | B8: PROINGES SAS | C8: 704004000
B10: Valor Minimo Presupuesto Estimado | C10: 6.3421037e+08 | D10: 0.9
B11: Valor Máximo Presupuesto Estimado | C11: 704678194 | D11: 1
B14: Puntaje máximo | C14: 10
B15: Media Aritmética | C15: =+(C5+C6+C7+C8)/4 -> 6.9697861e+08
B16: Oferta máxima | C16: =MAX(C5:C8) -> 704004000
B19: Media aritmética alta | C19: =+(C15+C16)/2 -> 7.004913e+08
B21: Puntaje
B22: UNIÓN TEMPORAL INTERVENTORÍA SSFV BARBACOAS 2026 | C22: =30*(1-((C19-C5)/C19)) -> 30.06904
B23: INSERGROUP - ISG S.A.S. | C23: =30*(1-(2*(-C19+C6)/C19)) -> 31.702078
B24: SERVICIOS DE CONSULTORIA, OBRAS Y BIENES SAS “SECOB SAS”
B25: PROINGES SAS
B30: Media Geométrica con Presupuesto Oficial | C30: =+C40 -> 6.9949198e+08
B32: Numero Proponentes | C32: 4
B33: umero de veces del PO (NV) | C33: 2
B34: Presupuesto | C34: =+'PONDERABLES LP 025-2026'!C11 -> 704678194
B35: Oferta 1 | C35: =+C5 -> 702103366
B36: Oferta 2 | C36: =+C6 -> 680619786
B37: Oferta 3 | C37: =+C7 -> 701187270
B38: Oferta 4 | C38: =+C8 -> 704004000
C40: =PRODUCT(C35:C38,C34,C34)^(1/6) -> 6.9949198e+08 | D40: Formula1
C41: =EXP((LN(C35)+LN(C36)+LN(C37)+LN(C38)+LN(C34)+LN(C34))/6) -> 6.9949198e+08 | D41: Comprobación
B43: Puntaje
B44: Oferta 1 | C44: =30*(1-(2*((C35-$C$40)/$C$40))) -> 29.776004
B45: Oferta 2 | C45: =30*(C36/$C$40) -> 29.190604
B46: Oferta 3 | C46: =30*(1-(2*((C37-$C$40)/$C$40))) -> 29.854584
B47: Oferta 4 | C47: =30*(1-(2*((C38-$C$40)/$C$40))) -> 29.612975

Sheet UT ITERVENTORÍA SS
D3: PROPONENTE | E3: =+'PONDERABLES LP 025-2026'!C15 -> UNIÓN TEMPORAL INTERVENTORÍA SSFV BARBACOAS 2026
D5: PONDERABLES
E7: PRESUPUESTO OFICIAL | F7: =+'PONDERABLES LP 025-2026'!C11 -> 704678194 | G7: =+F7/1750905 -> 402.46512 | H7: EN SMMLV
E8: 0.3 | F8: =+F7*E8 -> 2.1140346e+08 | G8: =+F8/1750905 -> 120.73954
E9: 0.5 | F9: =+F7*E9 -> 352339097 | G9: =+F9/1750905 -> 201.23256
D10: Acreditación experiencia adicional
D11: ANEXO 11
E13: Objeto | F13: Valor | G13: SMMLV | H13: CUMPLE O NO CUMPLE
D14: Contrato 1
D15: Contrato 2
D16: Contrato 3
E17: SUBTOTAL CRITERIO A -1 | F17: =+SUM(F14:F16) -> 0 | G17: =+SUM(G14:G16) -> 0 | H17: =+IF(G17<G8,"No Cumple","Cumple") -> No Cumple | I17: =+IF(H17="Cumple",10,0) -> 0
E19: Objeto | F19: Valor | G19: SMMLV | H19: CUMPLE O NO CUMPLE
D20: Contrato 1 | E20: INTERVENTORIA TÉCNICA, ADMINISTRATIVA, FINANCIERA, JURÍDICA Y CONTABLE PARA LAS OBRAS DE SUMINISTRO, TRANSPORTE E INSTALACION E IMPLEMENTACIÓN DE: A. CONSTRUCCIÓN INSTALACIÓN E IMPLEMENTACIÓN DE SOLUCIONES DE ENERGÍA INDIVIDUALES SOSTENIBLES CONSISTENTES EN SISTEMAS SOLARES FOTOVOLTAICOS PARA VIVIENDAS RURALES EN LAS ZONAS NO INTERCONECTADAS DE LAS VEREDAS EL PENEYA, LOMA LARGA, JORDAN, EL PARAISO, ANIMAS ALTAS, EL PORVENIR 1, SANTA FE, ALTA SARDINATA, REMANZOS, MONTERREY, LA GRANJA, AGUAS CLARAS, ANDAQUIES, BARCELONA, VILLANUEVA, RISARALDA, FUNDACIÓN, SANTO DOMINGO, LA SABALETA BAJA, EL CAÑO SANTO DOMINGO, CARACOL, LEJANIAS, ARRALLANTES, ALTO CRISTALES, DOS QUEBRADAS, PAUJILES, LA CEIBA, ARGENTINA, LOS CAUCHOS, LA URIBE, LOBITOS, PORES, SARDINATA Y LIBANO DEL MUNICIPIO DE CARTAGENA DEL CHAIRÁ - CAQUETÁ (947 SOLUCIONES) | F20: 454336863 | G20: 581.56
D21: Contrato 2 | E21: INTERVENTORÍA TÉCNICA, ADMINISTRATIVA, FINANCIERA, JURÍDICA, AMBIENTAL, SOCIAL, Y CONTABLE PARA EL CONTRATO DE OBRA DE SUMINISTRO TRANSPORTE E INSTALACIÓN DE SOLUCIONES ENERGÉTICAS PARA BENEFICIAR A 620 USUARIOS EN 24 LOCALIDADES PERTENECIENTES A LA ESTRELLA FLUVIAL DEL RIO INÍRIDA, UBICADOS EN LAS ZONAS NO INTERCONECTADAS DEL MUNICIPIO DE INÍRIDA EN EL DEPARTAMENTO DEL GUAINÍA | F21: 578744500 | G21: 578.74
D22: Contrato 3 | E22: INTERVENTORÍA TÉCNICA, ADMINISTRATIVA, FINANCIERA, JURÍDICA, AMBIENTAL, PREDIAL, SOCIAL, Y CONTABLE PARA EL CONTRATO DE OBRA PARA LA IMPLEMENTACIÓN DE SISTEMAS FOTOVOLTAICOS EN ZONAS NO INTERCONECTADAS DEL MUNICIPIO DE EL CARMEN DE BOLÍVAR, DEPARTAMENTO DE BOLÍVAR, EN LOS TÉRMINOS DEL OCAD PAZ No 052 DEL 6 DE JULIO DE 2021. | F22: 473382000 | G22: 408.09
D23: Contrato 4 | E23: INTERVENTORÍA TÉCNICA, ADMINISTRATIVA, FINANCIERA, JURÍDICA, PREDIAL, AMBIENTAL, SOCIAL, Y CONTABLE PARA EL CONTRATO DE OBRA PARA EL SUMINISTRO TRANSPORTE E INSTALACIÓN DE SOLUCIONES INDIVIDUALES SOLARES FOTOVOLTAICAS – SISFV EN LAS COMUNIDADES RURALES Y DISPERSAS DE LA ZNI EN EL MUNICIPIO DE PAILITAS, EN EL DEPARTAMENTO DE CESAR | F23: 215025000 | G23: 165.4
D24: Contrato 5 | E24: INTERVENTORÍA TÉCNICA, ADMINISTRATIVA, FINANCIERA, JURÍDICA, PREDIAL, AMBIENTAL, SOCIAL, Y CONTABLE PARA CONTRATO DE OBRA PARA EL SUMINISTRO TRANSPORTE E INSTALACIÓN DE SOLUCIONES INDIVIDUALES SOLARES FOTOVOLTAICAS - SISFV EN LAS COMUNIDADES RURALES Y DISPERSAS DE LA ZNI EN EL MUNICIPIO DE MANAURE, EN EL DEPARTAMENTO DE LA GUAJIRA | F24: 291089555 | G24: 223.92
E25: SUBTOTAL CRITERIO A -2 | F25: =+SUM(F20:F24) -> 2012577918 | G25: =+SUM(G20:G24) -> 1957.71 | H25: =+IF(G25<G9,"No Cumple","Cumple") -> Cumple | I25: =+IF(H25="Cumple",30,0) -> 30
E28: CRITERIO B
E30: Objeto | F30: Valor | G30: SMMLV | H30: CUMPLE O NO CUMPLE
D31: Contrato 1
D32: Contrato 2
D33: Contrato 3
E34: SUBTOTAL CRITERIO B -1 | F34: =+SUM(F31:F33) -> 0 | G34: =+SUM(G31:G33) -> 0 | H34: =+IF(G34<G8,"No Cumple","Cumple") -> No Cumple | I34: =+IF(H34="Cumple",15,0) -> 0
E36: Objeto | F36: Valor | G36: SMMLV | H36: CUMPLE O NO CUMPLE
D37: Contrato 1 | E37: INTERVENTORIA TÉCNICA, ADMINISTRATIVA, FINANCIERA, JURÍDICA Y CONTABLE PARA LAS OBRAS DE SUMINISTRO, TRANSPORTE E INSTALACION E IMPLEMENTACIÓN DE: A. CONSTRUCCIÓN INSTALACIÓN E IMPLEMENTACIÓN DE SOLUCIONES DE ENERGÍA INDIVIDUALES SOSTENIBLES CONSISTENTES EN SISTEMAS SOLARES FOTOVOLTAICOS PARA VIVIENDAS RURALES EN LAS ZONAS NO INTERCONECTADAS DE LAS VEREDAS EL PENEYA, LOMA LARGA, JORDAN, EL PARAISO, ANIMAS ALTAS, EL PORVENIR 1, SANTA FE, ALTA SARDINATA, REMANZOS, MONTERREY, LA GRANJA, AGUAS CLARAS, ANDAQUIES, BARCELONA, VILLANUEVA, RISARALDA, FUNDACIÓN, SANTO DOMINGO, LA SABALETA BAJA, EL CAÑO SANTO DOMINGO, CARACOL, LEJANIAS, ARRALLANTES, ALTO CRISTALES, DOS QUEBRADAS, PAUJILES, LA CEIBA, ARGENTINA, LOS CAUCHOS, LA URIBE, LOBITOS, PORES, SARDINATA Y LIBANO DEL MUNICIPIO DE CARTAGENA DEL CHAIRÁ - CAQUETÁ (947 SOLUCIONES) | F37: 454336863 | G37: 581.56
D38: Contrato 2
D39: Contrato 3 | E39: INTERVENTORÍA TÉCNICA, ADMINISTRATIVA, FINANCIERA, JURÍDICA, AMBIENTAL, PREDIAL, SOCIAL, Y CONTABLE PARA EL CONTRATO DE OBRA PARA LA IMPLEMENTACIÓN DE SISTEMAS FOTOVOLTAICOS EN ZONAS NO INTERCONECTADAS DEL MUNICIPIO DE EL CARMEN DE BOLÍVAR, DEPARTAMENTO DE BOLÍVAR, EN LOS TÉRMINOS DEL OCAD PAZ No 052 DEL 6 DE JULIO DE 2021. | F39: 473382000 | G39: 408.09
D40: Contrato 4 | E40: INTERVENTORÍA TÉCNICA, ADMINISTRATIVA, FINANCIERA, JURÍDICA, PREDIAL, AMBIENTAL, SOCIAL, Y CONTABLE PARA EL CONTRATO DE OBRA PARA EL SUMINISTRO TRANSPORTE E INSTALACIÓN DE SOLUCIONES INDIVIDUALES SOLARES FOTOVOLTAICAS – SISFV EN LAS COMUNIDADES RURALES Y DISPERSAS DE LA ZNI EN EL MUNICIPIO DE PAILITAS, EN EL DEPARTAMENTO DE CESAR | F40: 215025000 | G40: 165.4
D41: Contrato 5 | E41: INTERVENTORÍA TÉCNICA, ADMINISTRATIVA, FINANCIERA, JURÍDICA, PREDIAL, AMBIENTAL, SOCIAL, Y CONTABLE PARA CONTRATO DE OBRA PARA EL SUMINISTRO TRANSPORTE E INSTALACIÓN DE SOLUCIONES INDIVIDUALES SOLARES FOTOVOLTAICAS - SISFV EN LAS COMUNIDADES RURALES Y DISPERSAS DE LA ZNI EN EL MUNICIPIO DE MANAURE, EN EL DEPARTAMENTO DE LA GUAJIRA | F41: 291089555 | G41: 223.92
E42: SUBTOTAL CRITERIO B -2 | F42: =+SUM(F37:F41) -> 1433833418 | G42: =+SUM(G37:G41) -> 1378.97 | H42: =+IF(G42<G9,"No Cumple","Cumple") -> Cumple | I42: =+IF(H42="Cumple",30,0) -> 30
H44: TOTAL PUNTAJE | I44: =+SUM(I13:I43) -> 60 | J44: Máximo 60
D46: ANEXO 12
D48: Prestará el servicio con personal cien por ciento (100%) NACIONAL | F48: Cumple | I48: =+IF(F48="Cumple",10,0) -> 10
D50: Prestará el servicio con personal Nacional y Extranjero | I50: =+IF(F50="Cumple",5,0) -> 0
D52: Prestará el servicio con personal 100% ) EXTRANJERO O NO AREDITE CERTIFICACIÓN | I52: 0
H54: TOTAL PUNTAJE | I54: =+SUM(I48:I53) -> 10 | J54: Máximo 10

Sheet INSERGROUP - ISG S.A.S.
D3: PROPONENTE | E3: =+'PONDERABLES LP 025-2026'!C16 -> INSERGROUP - ISG S.A.S.
D5: PONDERABLES
E7: PRESUPUESTO OFICIAL | F7: =+'PONDERABLES LP 025-2026'!C11 -> 704678194 | G7: =+F7/1750905 -> 402.46512 | H7: EN SMMLV
E8: 0.3 | F8: =+F7*E8 -> 2.1140346e+08 | G8: =+F8/1750905 -> 120.73954
E9: 0.5 | F9: =+F7*E9 -> 352339097 | G9: =+F9/1750905 -> 201.23256
D10: Acreditación experiencia adicional
D11: ANEXO 11
E13: Objeto | F13: Valor | G13: SMMLV | H13: CUMPLE O NO CUMPLE
D14: Contrato 1
D15: Contrato 2
D16: Contrato 3
E17: SUBTOTAL CRITERIO A -1 | F17: =+SUM(F14:F16) -> 0 | G17: =+SUM(G14:G16) -> 0 | H17: =+IF(G17<G8,"No Cumple","Cumple") -> No Cumple | I17: =+IF(H17="Cumple",10,0) -> 0
E19: Objeto | F19: Valor | G19: SMMLV | H19: CUMPLE O NO CUMPLE
D20: Contrato 1 | E20: PRESTAR EL SERVICIO DE INTERVENTORÍA TÉCNICA, LEGAL Y FINANCIERA AL CONTRATO NO. 0049 DE 2022 CUYO OBJETO ES: DISEÑO, CONSTRUCCIÓN E IMPLEMENTACIÓN A TODO COSTO DE SISTEMAS DE GENERACIÓN DE ENERGÍA HÍBRIDA SOLAR FOTOVOLTAICA MEDIANTE EL SUMINISTRO E INSTALACIÓN DE PANELES SOLARES, ESTRUCTURA METÁLICA, GABINETES METÁLICOS ELÉCTRICOS GALVANIZADOS, BATERÍAS ESTACIONARIAS, INVERSORES DE ONDA SENOIDAL, CONTROLADORES DE CARGA, SISTEMA DE PUESTA A TIERRA E INSTALACIONES ELÉCTRICAS INTERNAS Y EXTERNAS, EN INSTALACIONES INSTITUCIONALES PARA LOS DEPARTAMENTOS DE HUILA, CAUCA, TOLIMA Y CAQUETÁ (CRITERIO A) | F20: 270000000 | G20: 207.69
D21: Contrato 2 | E21: INTERVENTORÍA INTEGRAL AL CONTRATO DE OBRA ELÉCTRICA Y CIVIL NO. 02159 DE SEPTIEMBRE DE 2016 CUYO OBJETO ES: CONSTRUCCIÓN DE LA FASE 1 DEL PROYECTO IMPLEMENTACIÓN DE SISTEMAS DE GENERACIÓN DE ENERGÍA HÍBRIDA SOLAR FOTOVOLTAICA CON CAPACIDAD DE 4,81 kWp POR USUARIO EN LA ZONA RURAL DE MUNICIPIOS DEL CENTRO Y SUR DEL HUILA, INCLUYE SUMINISTRO E INSTALACIÓN DE PANELES SOLARES, ESTRUCTURA METÁLICA, CUARTO DE EQUIPOS E INSTALACIONES ELÉCTRICAS INTERNAS Y EXTERNAS (CRITERIO A) | F21: 139000000 | G21: 177.92
D22: Contrato 3 | E22: REALIZAR LA INTERVENTORÍA TÉCNICA, ADMINISTRATIVA, FINANCIERA, JURÍDICA, PREDIAL, SOCIAL Y AMBIENTAL PARA EL PROYECTO: IMPLEMENTACIÓN DE SOLUCIONES SOLARES FOTOVOLTAICAS PARA USUARIOS EN LA ZONA RURAL DEL MUNICIPIO DE SAN VICENTE DEL CAGUÁN, CAQUETÁ (CRITERIO B) | F22: 474110280 | G22: 364.7
D23: Contrato 4 | E23: INTERVENTORÍA ADMINISTRATIVA, TÉCNICA Y FINANCIERA PARA EL PROYECTO DE CONSTRUCCIÓN E INSTALACIÓN DE SISTEMAS DE AUTOGENERACIÓN ELÉCTRICA CON TECNOLOGÍA SOLAR FOTOVOLTAICA EN VIVIENDAS RURALES EN LOS DEPARTAMENTOS DE PUTUMAYO Y HUILA PARA PROYECTOS AGRÍCOLAS DE MEJORAMIENTO TECNOLÓGICO (CRITERIO B) | F23: 127000000 | G23: 144.68
D24: Contrato 5
E25: SUBTOTAL CRITERIO A -2 | F25: =+SUM(F20:F24) -> 1010110280 | G25: =+SUM(G20:G24) -> 894.99 | H25: =+IF(G25<G9,"No Cumple","Cumple") -> Cumple | I25: =+IF(H25="Cumple",30,0) -> 30
E28: CRITERIO B
E30: Objeto | F30: Valor | G30: SMMLV | H30: CUMPLE O NO CUMPLE
D31: Contrato 1
D32: Contrato 2
D33: Contrato 3
E34: SUBTOTAL CRITERIO B -1 | F34: =+SUM(F31:F33) -> 0 | G34: =+SUM(G31:G33) -> 0 | H34: =+IF(G34<G8,"No Cumple","Cumple") -> No Cumple | I34: =+IF(H34="Cumple",15,0) -> 0
E36: Objeto | F36: Valor | G36: SMMLV | H36: CUMPLE O NO CUMPLE
D37: Contrato 1 | E37: PRESTAR EL SERVICIO DE INTERVENTORÍA TÉCNICA, LEGAL Y FINANCIERA AL CONTRATO NO. 0049 DE 2022 CUYO OBJETO ES: DISEÑO, CONSTRUCCIÓN E IMPLEMENTACIÓN A TODO COSTO DE SISTEMAS DE GENERACIÓN DE ENERGÍA HÍBRIDA SOLAR FOTOVOLTAICA MEDIANTE EL SUMINISTRO E INSTALACIÓN DE PANELES SOLARES, ESTRUCTURA METÁLICA, GABINETES METÁLICOS ELÉCTRICOS GALVANIZADOS, BATERÍAS ESTACIONARIAS, INVERSORES DE ONDA SENOIDAL, CONTROLADORES DE CARGA, SISTEMA DE PUESTA A TIERRA E INSTALACIONES ELÉCTRICAS INTERNAS Y EXTERNAS, EN INSTALACIONES INSTITUCIONALES PARA LOS DEPARTAMENTOS DE HUILA, CAUCA, TOLIMA Y CAQUETÁ (CRITERIO A) | F37: 270000000 | G37: 207.69
D38: Contrato 2 | E38: INTERVENTORÍA INTEGRAL AL CONTRATO DE OBRA ELÉCTRICA Y CIVIL NO. 02159 DE SEPTIEMBRE DE 2016 CUYO OBJETO ES: CONSTRUCCIÓN DE LA FASE 1 DEL PROYECTO IMPLEMENTACIÓN DE SISTEMAS DE GENERACIÓN DE ENERGÍA HÍBRIDA SOLAR FOTOVOLTAICA CON CAPACIDAD DE 4,81 kWp POR USUARIO EN LA ZONA RURAL DE MUNICIPIOS DEL CENTRO Y SUR DEL HUILA, INCLUYE SUMINISTRO E INSTALACIÓN DE PANELES SOLARES, ESTRUCTURA METÁLICA, CUARTO DE EQUIPOS E INSTALACIONES ELÉCTRICAS INTERNAS Y EXTERNAS (CRITERIO A) | F38: 139000000 | G38: 177.92
D39: Contrato 3 | E39: REALIZAR LA INTERVENTORÍA TÉCNICA, ADMINISTRATIVA, FINANCIERA, JURÍDICA, PREDIAL, SOCIAL Y AMBIENTAL PARA EL PROYECTO: IMPLEMENTACIÓN DE SOLUCIONES SOLARES FOTOVOLTAICAS PARA USUARIOS EN LA ZONA RURAL DEL MUNICIPIO DE SAN VICENTE DEL CAGUÁN, CAQUETÁ (CRITERIO B) | F39: 474110280 | G39: 364.7
D40: Contrato 4 | E40: INTERVENTORÍA ADMINISTRATIVA, TÉCNICA Y FINANCIERA PARA EL PROYECTO DE CONSTRUCCIÓN E INSTALACIÓN DE SISTEMAS DE AUTOGENERACIÓN ELÉCTRICA CON TECNOLOGÍA SOLAR FOTOVOLTAICA EN VIVIENDAS RURALES EN LOS DEPARTAMENTOS DE PUTUMAYO Y HUILA PARA PROYECTOS AGRÍCOLAS DE MEJORAMIENTO TECNOLÓGICO (CRITERIO B) | F40: 127000000 | G40: 144.68
D41: Contrato 5
E42: SUBTOTAL CRITERIO B -2 | F42: =+SUM(F37:F41) -> 1010110280 | G42: =+SUM(G37:G41) -> 894.99 | H42: =+IF(G42<G9,"No Cumple","Cumple") -> Cumple | I42: =+IF(H42="Cumple",30,0) -> 30
H44: TOTAL PUNTAJE | I44: =+SUM(I13:I43) -> 60 | J44: Máximo 60
D46: ANEXO 12
D48: Prestará el servicio con personal cien por ciento (100%) NACIONAL | F48: Cumple | I48: =+IF(F48="Cumple",10,0) -> 10
D50: Prestará el servicio con personal Nacional y Extranjero | I50: =+IF(F50="Cumple",5,0) -> 0
D52: Prestará el servicio con personal 100% ) EXTRANJERO O NO AREDITE CERTIFICACIÓN | I52: 0
H54: TOTAL PUNTAJE | I54: =+SUM(I48:I53) -> 10 | J54: Máximo 10

Sheet SECOB SAS
D3: PROPONENTE | E3: =+'PONDERABLES LP 025-2026'!C17 -> SERVICIOS DE CONSULTORIA, OBRAS Y BIENES SAS “SECOB SAS”
D5: PONDERABLES
E7: PRESUPUESTO OFICIAL | F7: =+'PONDERABLES LP 025-2026'!C11 -> 704678194 | G7: =+F7/1750905 -> 402.46512 | H7: EN SMMLV
E8: 0.3 | F8: =+F7*E8 -> 2.1140346e+08 | G8: =+F8/1750905 -> 120.73954
E9: 0.5 | F9: =+F7*E9 -> 352339097 | G9: =+F9/1750905 -> 201.23256
D10: Acreditación experiencia adicional
D11: ANEXO 11
E13: Objeto | F13: Valor | G13: SMMLV | H13: CUMPLE O NO CUMPLE
D14: Contrato 1
D15: Contrato 2
D16: Contrato 3
E17: SUBTOTAL CRITERIO A -1 | F17: =+SUM(F14:F16) -> 0 | G17: =+SUM(G14:G16) -> 0 | H17: =+IF(G17<G8,"No Cumple","Cumple") -> No Cumple | I17: =+IF(H17="Cumple",10,0) -> 0
E19: Objeto | F19: Valor | G19: DIF | H19: CUMPLE O NO CUMPLE
D20: Contrato 1 | E20: INTERVENTORíA TÉCNICA, AMBIENTAL, ADMINISTRATIVA, FINANCIERA, CONTABLE Y JURíDlCA A LA CONSTRUCCIÓN DE SUBESTACIÓN LLANO LINDO DE 10 MVA A 34.5/13.8 KV Y ALIMENTADOR PRINCIPAL A 34.5 KV EN EL MUNICIPIO DE YOPAL, DEPARTAMENTO DE CASANARE. | F20: 534155019 | G20: 587.94
D21: Contrato 2 | E21: REALIZAR INTERVENTORÍA ADMINISTRATIVA, TÉCNICA, FINANCIERA, AMBIENTAL, CONTABLE Y JURÍDICA A LA AMPLIACIÓN DE REDES ELÉCTRICAS DE MEDIA TENSIÓN PARA ANILLO EN 34,5 KV ENTRE S/E CIUDADELA Y S/E LOS HÉROES, DOBLE CIRCUITO 34,5 Y 13,2 KV Y RED DE 13,2 KV EN ALGUNOS SECTORES DEL MUNICIPIO DE YOPAL, CASANARE | F21: 234612595 | G21: 234.61
D22: Contrato 3 | E22: INTERVENTORIA TECNICA, ADMINISTRATIVA, FINANCIERA. AMBIENTAL, CONTABLE Y JURIDICA DE LA CONSTRUCCION DE REDES ELECTRICAS DE MEDIA Y BAJA TENSION URBANIZACIONES HELICONIAS Y BOSQUES DE SAN MARTIN MUNICIPIO DE YOPAL. DEPARTAMENTO DE CASANARE. | F22: 163764030 | G22: 197.75
D23: Contrato 4 | E23: REALIZAR LA INTERVENTORÍA TÉCNICA, ADMINISTRATIVA, FINANCIERA, CONTABLE, SOCIAL, AMBIENTAL Y JURÍDICO PARA LOS SIGUIENTE(S) PROYECTO(S): “IMPLEMENTACIÓN DE SOLUCIONES SOLARES FOTOVOLTAICAS PARA USUARIOS EN LA ZONA RURAL DEL MUNICIPIO DEL VALLE DEL GUAMEZ, MUNICIPIO DE SAN MIGUEL, DEL MUNICIPIO DE ORITO DEL DEPARTAMENTO DE PUTUMAYO” | F23: 1143756600 | G23: 803.48
D24: Contrato 5 | E24: REALIZAR LA INTERVENTORÍA INTEGRAL A LA CONSTRUCCIÓN DE UNIDADES DE GENERACIÓN FOTOVOLTAICAS DE ENERGÍA ELÉCTRICA, PARA COMUNIDADES EN LA ZONA RURAL DISPERSA DEL MUNICIPIO DE URIBIA EN EL DEPARTAMENTO DE LA GUAJIRA. – GRUPO CENTRO- | F24: 1280871236 | G24: 985.29
E25: SUBTOTAL CRITERIO A -2 | F25: =+SUM(F20:F38) -> 3357159480 | G25: =+SUM(G20:G24) -> 2809.07 | H25: =+IF(G25<G9,"No Cumple","Cumple") -> Cumple | I25: =+IF(H25="Cumple",30,0) -> 30
E28: CRITERIO B
E30: Objeto | F30: Valor | G30: SMMLV | H30: CUMPLE O NO CUMPLE
D31: Contrato 1
D32: Contrato 2
D33: Contrato 3
E34: SUBTOTAL CRITERIO B -1 | F34: =+SUM(F31:F33) -> 0 | G34: =+SUM(G31:G33) -> 0 | H34: =+IF(G34<G8,"No Cumple","Cumple") -> No Cumple | I34: =+IF(H34="Cumple",15,0) -> 0
E36: Objeto | F36: Valor | G36: SMMLV | H36: CUMPLE O NO CUMPLE
D37: Contrato 1 | E37: REALIZAR LA INTERVENTORÍA TÉCNICA, ADMINISTRATIVA, FINANCIERA, CONTABLE, SOCIAL, AMBIENTAL Y JURÍDICO PARA LOS SIGUIENTE(S) PROYECTO(S): “IMPLEMENTACIÓN DE SOLUCIONES SOLARES FOTOVOLTAICAS PARA USUARIOS EN LA ZONA RURAL DEL MUNICIPIO DEL VALLE DEL GUAMEZ, MUNICIPIO DE SAN MIGUEL, DEL MUNICIPIO DE ORITO DEL DEPARTAMENTO DE PUTUMAYO” | F37: 1143756600 | G37: 803.48
D38: Contrato 2 | E38: REALIZAR LA INTERVENTORÍA INTEGRAL A LA CONSTRUCCIÓN DE UNIDADES DE GENERACIÓN FOTOVOLTAICAS DE ENERGÍA ELÉCTRICA, PARA COMUNIDADES EN LA ZONA RURAL DISPERSA DEL MUNICIPIO DE URIBIA EN EL DEPARTAMENTO DE LA GUAJIRA. – GRUPO CENTRO- | F38: 1280871236 | G38: 985.29
D39: Contrato 3
D40: Contrato 4
D41: Contrato 5
E42: SUBTOTAL CRITERIO B -2 | F42: =+SUM(F37:F41) -> 2424627836 | G42: =+SUM(G37:G41) -> 1788.77 | H42: =+IF(G42<G9,"No Cumple","Cumple") -> Cumple | I42: =+IF(H42="Cumple",30,0) -> 30
H44: TOTAL PUNTAJE | I44: =+SUM(I13:I43) -> 60 | J44: Máximo 60
D46: ANEXO 12
D48: Prestará el servicio con personal cien por ciento (100%) NACIONAL | F48: Cumple | I48: =+IF(F48="Cumple",10,0) -> 10
D50: Prestará el servicio con personal Nacional y Extranjero | I50: =+IF(F50="Cumple",5,0) -> 0
D52: Prestará el servicio con personal 100% ) EXTRANJERO O NO AREDITE CERTIFICACIÓN | I52: 0
H54: TOTAL PUNTAJE | I54: =+SUM(I48:I53) -> 10 | J54: Máximo 10

Sheet PROINGES SAS
D3: PROPONENTE | E3: =+'PONDERABLES LP 025-2026'!C18 -> PROINGES SAS
D5: PONDERABLES
E7: PRESUPUESTO OFICIAL | F7: =+'PONDERABLES LP 025-2026'!C11 -> 704678194 | G7: =+F7/1750905 -> 402.46512 | H7: EN SMMLV
E8: 0.3 | F8: =+F7*E8 -> 2.1140346e+08 | G8: =+F8/1750905 -> 120.73954
E9: 0.5 | F9: =+F7*E9 -> 352339097 | G9: =+F9/1750905 -> 201.23256
D10: Acreditación experiencia adicional
D11: ANEXO 11
E13: Objeto | F13: Valor | G13: SMMLV | H13: CUMPLE O NO CUMPLE
D14: Contrato 1
D15: Contrato 2
D16: Contrato 3
E17: SUBTOTAL CRITERIO A -1 | F17: =+SUM(F14:F16) -> 0 | G17: =+SUM(G14:G16) -> 0 | H17: =+IF(G17<G8,"No Cumple","Cumple") -> No Cumple | I17: =+IF(H17="Cumple",10,0) -> 0
E19: Objeto | F19: Valor | G19: SMMLV | H19: CUMPLE O NO CUMPLE
D20: Contrato 1 | E20: Interventoría técnica, administrativa, financiera, jurídica y contable para las obras de suministro, transporte e instalación de componentes de redes para las siguientes obras: a) interconexión eléctrica al sistema de distribución de 16 corregimientos iniciando desde Sanceno, incluyendo Las Mercedes, Negua llegando Santa Lucia Del Fuerte en el municipio de Quibdó del departamento del Choco. b) interconexión eléctrica al sistema de distribución de 11 centros poblados desde la Sierra hasta Piedra Honda - Bagadó - del municipio de agadó en el Departamento del Choco. | F20: 457877099 | G20: 552.91
D21: Contrato 2 | E21: Interventoría técnica, administrativa, financiera y ambiental para las obras de electrificación rural Vereda Matecaña, Socavón Etapa 2, normalización de redes eléctricas sector Colegios de los corregimientos de Leña, Martillo y Aguada de Pablo de los Municipios de Candelaria, Ponedera y Sabanalarga, normalización de redes eléctricas en los Barrios Piñique, San Rafael, El 4 de Julio, Las Flores, y El Campo en el Corregimiento de Molineros de Sabanalarga y electrificación en la Urbanización Caracoles de Sabanagrande del Departamento del Atlántico. | F21: 672000000 | G21: 765.54
D22: Contrato 3 | E22: Interventoría técnica, administrativa, financiera, jurídica y contable para las obras de suministro, transporte e instalación e implementación de la construcción instalación e implementación de soluciones de energía individuales sostenibles consistentes en sistemas solares fotovoltaicos para viviendas rurales en las zonas no interconectadas de las veredas El Peneya, Loma Larga, Jordan, El Paraíso, Animas Altas, El Porvenir 1, Santa Fe, Alta Sardinata, Remanzos, Monterrey, La Granja, Aguas Claras, Andaquies, Barcelona, Villanueva, Risaralda, Fundación, Santo Domingo, La Sabaleta Baja, El caño Santo Domingo, Caracol, Lejanias, Arrallantes, Alto Cristales, Dos Quebradas, Paujiles, La Ceiba, Argentina, Los Cauchos, La Uribe, Lobites, Pores, Sardinata y Libano del Municipio de Cartagena del Chairá - Caquetá (947 Soluciones). | F22: 454336863 | G22: 548.64
D23: Contrato 4 | E23: Interventoría técnica, administrativa, financiera y ambiental al contrato de obra cuyo objeto es: "Construcción de sistemas de energía solar fotovoltaica en la zona rural de Saravena, Arauca". | F23: 478578492 | G23: 368.13
D24: Contrato 5 | E24: Interventoría técnica, administrativa, financiera, jurídica, ambiental, social, y contable para la implementación de un sistema de generación de energía eléctrica a nivel residencial en los hogares priorizados a través del uso de fuentes renovables (fotovoltaica) por 250 familias ubicadas en las veredas El Trigo, Marimonda, Conejo, San Agustín, Puerto López, Quebrachal, Sabana del Medio, El Toco, Las Iguana, Mediadia, La illa, El Chorro, El Puy, Hatico Viejo, Jabuey, El Confuso, La Bendiciones, Las Colonias, Los Altos y El Resguardo Indígena Mayamangloma integrado por las cuatro comunidades: Mayavita, Bangañita, La Gloria y La Loma, estas veredas se encuentran ubicadas en el área rural del municipio de Fonseca - Guajira. | F24: 206534415 | G24: 249.40
E25: SUBTOTAL CRITERIO A -2 | F25: =+SUM(F20:F24) -> 2269326869 | G25: =+SUM(G20:G24) -> 1867.09 | H25: =+IF(G25<G9,"No Cumple","Cumple") -> Cumple | I25: =+IF(H25="Cumple",30,0) -> 30
E28: CRITERIO B
E30: Objeto | F30: Valor | G30: SMMLV | H30: CUMPLE O NO CUMPLE
D31: Contrato 1
D32: Contrato 2
D33: Contrato 3
E34: SUBTOTAL CRITERIO B -1 | F34: =+SUM(F31:F33) -> 0 | G34: =+SUM(G31:G33) -> 0 | H34: =+IF(G34<G8,"No Cumple","Cumple") -> No Cumple | I34: =+IF(H34="Cumple",15,0) -> 0
E36: Objeto | F36: Valor | G36: SMMLV | H36: CUMPLE O NO CUMPLE
D37: Contrato 1 | E37: Interventoría técnica, administrativa, financiera, jurídica y contable para las obras de suministro, transporte e instalación e implementación de la construcción instalación e implementación de soluciones de energía individuales sostenibles consistentes en sistemas solares fotovoltaicos para viviendas rurales en las zonas no interconectadas de las veredas El Peneya, Loma Larga, Jordan, El Paraíso, Animas Altas, El Porvenir 1, Santa Fe, Alta Sardinata, Remanzos, Monterrey, La Granja, Aguas Claras, Andaquies, Barcelona, Villanueva, Risaralda, Fundación, Santo Domingo, La Sabaleta Baja, El caño Santo Domingo, Caracol, Lejanias, Arrallantes, Alto Cristales, Dos Quebradas, Paujiles, La Ceiba, Argentina, Los Cauchos, La Uribe, Lobites, Pores, Sardinata y Libano del Municipio de Cartagena del Chairá - Caquetá (947 Soluciones). | F37: 454336863 | G37: 548.64
D38: Contrato 2 | E38: Interventoría técnica, administrativa, financiera y ambiental al contrato de obra cuyo objeto es: "Construcción de sistemas de energía solar fotovoltaica en la zona rural de Saravena, Arauca". | F38: 478578492 | G38: 368.13
D39: Contrato 3 | E39: Interventoría técnica, administrativa, financiera, jurídica, ambiental, social, y contable para la implementación de un sistema de generación de energía eléctrica a nivel residencial en los hogares priorizados a través del uso de fuentes renovables (fotovoltaica) por 250 familias ubicadas en las veredas El Trigo, Marimonda, Conejo, San Agustín, Puerto López, Quebrachal, Sabana del Medio, El Toco, Las Iguana, Mediadia, La illa, El Chorro, El Puy, Hatico Viejo, Jabuey, El Confuso, La Bendiciones, Las Colonias, Los Altos y El Resguardo Indígena Mayamangloma integrado por las cuatro comunidades: Mayavita, Bangañita, La Gloria y La Loma, estas veredas se encuentran ubicadas en el área rural del municipio de Fonseca - Guajira. | F39: 206534415 | G39: 249.40
D40: Contrato 4
D41: Contrato 5
E42: SUBTOTAL CRITERIO B -2 | F42: =+SUM(F37:F41) -> 1139449770 | G42: =+SUM(G37:G41) -> 548.64 | H42: =+IF(G42<G9,"No Cumple","Cumple") -> Cumple | I42: =+IF(H42="Cumple",30,0) -> 30
H44: TOTAL PUNTAJE | I44: =+SUM(I13:I43) -> 60 | J44: Máximo 60
D46: ANEXO 12
D48: Prestará el servicio con personal cien por ciento (100%) NACIONAL | F48: Cumple | I48: =+IF(F48="Cumple",10,0) -> 10
D50: Prestará el servicio con personal Nacional y Extranjero | I50: =+IF(F50="Cumple",5,0) -> 0
D52: Prestará el servicio con personal 100% ) EXTRANJERO O NO AREDITE CERTIFICACIÓN | I52: 0
H54: TOTAL PUNTAJE | I54: =+SUM(I48:I53) -> 10 | J54: Máximo 10
